BEGIN:VCALENDAR
VERSION:2.0
PRODID:-//Movimiento Cursillo de Cristianidad - ECPv5.5.0.1//NONSGML v1.0//EN
CALSCALE:GREGORIAN
METHOD:PUBLISH
X-WR-CALNAME:Movimiento Cursillo de Cristianidad
X-ORIGINAL-URL:http://mcc.org.do
X-WR-CALDESC:Eventos para Movimiento Cursillo de Cristianidad
BEGIN:VTIMEZONE
TZID:America/Halifax
BEGIN:DAYLIGHT
TZOFFSETFROM:-0400
TZOFFSETTO:-0300
TZNAME:ADT
DTSTART:20190310T060000
END:DAYLIGHT
BEGIN:STANDARD
TZOFFSETFROM:-0300
TZOFFSETTO:-0400
TZNAME:AST
DTSTART:20191103T050000
END:STANDARD
END:VTIMEZONE
BEGIN:VEVENT
DTSTART;TZID=America/Halifax:20190904T193000
DTEND;TZID=America/Halifax:20190904T213000
DTSTAMP:20260423T214521
CREATED:20190812T210525Z
LAST-MODIFIED:20190812T214420Z
UID:23639-1567625400-1567632600@mcc.org.do
SUMMARY:Ultreya Arquidiócesana
DESCRIPTION:Comparte estas informaciones:CompartirLa Vida don de Dios\nPresentará Dra. Xenia Castillo – Neonatologia\nCoordinadora Médicos por la Vida República Dominicana\nDra. Xenia Castillo Peña\nEspecialidades: Perinatología\nCiudades: Santo Domingo de Guzmán\nCentros de Salud: Hospital De La Mujer Dominicana | Maternidad Nuestra Señora De La Altagracia \nComparte estas informaciones:Compartir
URL:http://mcc.org.do/event/ultreya-arquidiocesana/
LOCATION:Auditorio Casa San Pablo\, Av. Rómulo Betancourt 1608\, Santo Domingo\, Distrito Nacional\, República Dominicana
CATEGORIES:Ultreya Arquidiócesana
ATTACH;FMTTYPE=image/png:http://mcc.org.do/wp-content/uploads/2019/09/Screen-Shot-2019-08-12-at-5.32.23-PM.png
END:VEVENT
END:VCALENDAR