BEGIN:VCALENDAR
VERSION:2.0
PRODID:-//Movimiento Cursillo de Cristianidad - ECPv5.5.0.1//NONSGML v1.0//EN
CALSCALE:GREGORIAN
METHOD:PUBLISH
X-WR-CALNAME:Movimiento Cursillo de Cristianidad
X-ORIGINAL-URL:http://mcc.org.do
X-WR-CALDESC:Eventos para Movimiento Cursillo de Cristianidad
BEGIN:VTIMEZONE
TZID:America/Halifax
BEGIN:DAYLIGHT
TZOFFSETFROM:-0400
TZOFFSETTO:-0300
TZNAME:ADT
DTSTART:20200308T060000
END:DAYLIGHT
BEGIN:STANDARD
TZOFFSETFROM:-0300
TZOFFSETTO:-0400
TZNAME:AST
DTSTART:20201101T050000
END:STANDARD
END:VTIMEZONE
BEGIN:VEVENT
DTSTART;TZID=America/Halifax:20200805T193000
DTEND;TZID=America/Halifax:20200805T213000
DTSTAMP:20260423T185129
CREATED:20190813T211128Z
LAST-MODIFIED:20190813T211128Z
UID:23720-1596655800-1596663000@mcc.org.do
SUMMARY:Ultreya Arquidiócesana
DESCRIPTION:Comparte estas informaciones:CompartirComparte estas informaciones:Compartir
URL:http://mcc.org.do/event/ultreya-arquidiocesana-12/
LOCATION:Auditorio Casa San Pablo\, Av. Rómulo Betancourt 1608\, Santo Domingo\, Distrito Nacional\, República Dominicana
ATTACH;FMTTYPE=image/png:http://mcc.org.do/wp-content/uploads/2019/08/Screen-Shot-2019-08-12-at-7.14.38-PM.png
END:VEVENT
END:VCALENDAR