BEGIN:VCALENDAR
VERSION:2.0
PRODID:-//Movimiento Cursillo de Cristianidad - ECPv5.5.0.1//NONSGML v1.0//EN
CALSCALE:GREGORIAN
METHOD:PUBLISH
X-WR-CALNAME:Movimiento Cursillo de Cristianidad
X-ORIGINAL-URL:http://mcc.org.do
X-WR-CALDESC:Eventos para Movimiento Cursillo de Cristianidad
BEGIN:VTIMEZONE
TZID:America/Halifax
BEGIN:DAYLIGHT
TZOFFSETFROM:-0400
TZOFFSETTO:-0300
TZNAME:ADT
DTSTART:20200308T060000
END:DAYLIGHT
BEGIN:STANDARD
TZOFFSETFROM:-0300
TZOFFSETTO:-0400
TZNAME:AST
DTSTART:20201101T050000
END:STANDARD
END:VTIMEZONE
BEGIN:VEVENT
DTSTART;VALUE=DATE:20200618
DTEND;VALUE=DATE:20200622
DTSTAMP:20260423T201246
CREATED:20190813T210645Z
LAST-MODIFIED:20200128T141924Z
UID:23713-1592438400-1592783999@mcc.org.do
SUMMARY:Cursillo Damas #888
DESCRIPTION:Comparte estas informaciones:CompartirComparte estas informaciones:Compartir
URL:http://mcc.org.do/event/cursillo-damas-888/
LOCATION:Salon de Rollos\, Casa San Pablo\, Santo Domingo\, Distrito Nacional\, República Dominicana
CATEGORIES:Cursillo Damas
ATTACH;FMTTYPE=image/png:http://mcc.org.do/wp-content/uploads/2018/08/Screen-Shot-2019-08-13-at-9.53.55-AM.png
END:VEVENT
END:VCALENDAR